BEGIN:VCALENDAR
VERSION:2.0
PRODID:-//M.S.V. Alchimica - ECPv6.15.1.1//NONSGML v1.0//EN
CALSCALE:GREGORIAN
METHOD:PUBLISH
X-ORIGINAL-URL:https://msvalchimica.nl
X-WR-CALDESC:Events for M.S.V. Alchimica
REFRESH-INTERVAL;VALUE=DURATION:PT1H
X-Robots-Tag:noindex
X-PUBLISHED-TTL:PT1H
BEGIN:VTIMEZONE
TZID:Europe/Paris
BEGIN:DAYLIGHT
TZOFFSETFROM:+0100
TZOFFSETTO:+0200
TZNAME:CEST
DTSTART:20220327T010000
END:DAYLIGHT
BEGIN:STANDARD
TZOFFSETFROM:+0200
TZOFFSETTO:+0100
TZNAME:CET
DTSTART:20221030T010000
END:STANDARD
END:VTIMEZONE
BEGIN:VEVENT
DTSTART;TZID=Europe/Paris:20220915T183000
DTEND;TZID=Europe/Paris:20220915T230000
DTSTAMP:20260425T032825
CREATED:20220830T150313Z
LAST-MODIFIED:20220830T165334Z
UID:4682-1663266600-1663282800@msvalchimica.nl
SUMMARY:Masterdinner
DESCRIPTION:Come to the master diner on the 15th of September! \nIf you have registered\, we meet at 18:30 at H41 (Herenstraat 41\, 6701 DH Wageningen). There is also a bar in the restaurant\, where you can have a drink afterwards. \nMax 40 people\, the maximum cost for the dinner will be €5\,25(excluding drinks)\, depending on the number of participants. After the dinner you will receive a tikkie (payment request) via email or whatsapp. If you cancel your registration less than 3 days before the dinner\,  you have to pay the full costs of the dinner (€11\,50). To unregister\, please email msv.alchimica@wur.nl. Deadline for registering is 12 September 2022 23:49\n \nRegister using the button above (to sign up\, first create an account\, if you haven’t made one already): \nQuestion 1: What would you like to eat? Black angus burger/vegetarian burger/chicken satay/vegan option \nQuestion 2: Do you have any allergies or intolerances\, if yes\, which? \nQuestion 3: what is your phone number? \nQuestion 4: I understand that if I do not show up at the dinner or I cancel my reservation less than 3 days in advance\, I need to pay the entire costs of my meal myself. yes
URL:https://msvalchimica.nl/event/masterdiner/
ATTACH;FMTTYPE=image/jpeg:https://msvalchimica.nl/wp-content/uploads/2022/08/masterdiner2.jpg
END:VEVENT
BEGIN:VEVENT
DTSTART;TZID=Europe/Paris:20220913T180000
DTEND;TZID=Europe/Paris:20220913T220000
DTSTAMP:20260425T032825
CREATED:20220906T151940Z
LAST-MODIFIED:20220913T143201Z
UID:5289-1663092000-1663106400@msvalchimica.nl
SUMMARY:Maxi Levend stratego en jachtseizoen
DESCRIPTION:Aanstaande dinsdag\, 13 september gaan we levend stratego en jachtseizoen doen! Kom om 18 uur naar Ad Hok (Forum 501) om samen te eten of rond 19 uur voor forum(de ingang die dan nog open is) om samen naar de locatie te fietsen waar we de spellen gaan doen (als je geen fiets hebt\, geen probleem\, je kunt vast wel bij iemand anders achterop).\nWij zorgen voor snacks en drinken voor tijdens de activiteit \nVergeet je WUR pas niet om na 18 uur het gebouw binnen te komen!! \nAls je mee wilt eten met pizza\, klik dan hierboven op register en vul bij ‘question 1’  je telefoonnummer in. Vul bij ‘question 2’ in welke pizza je wilt hebben\, zie lijst onderaan. Je hoeft je alleen te registreren als je pizza mee eet! Schrijf je in voor 16 uur als je mee wilt eten!\n \nAlle pizza’s zijn 3\,99 door een aanbieding. \nIk stuur later een tikkie. \n  \nKeuzes voor pizza: \nPerfect pepperoni \nMargaritha ( \nHam \nVeggi \nVegan funghi \nSalami \nHot and spicy \nHawaii
URL:https://msvalchimica.nl/event/maxi-levend-stratego-en-jachtseizoen/
ATTACH;FMTTYPE=image/jpeg:https://msvalchimica.nl/wp-content/uploads/2022/09/MAXI-levend-stratego.jpg
END:VEVENT
BEGIN:VEVENT
DTSTART;TZID=Europe/Paris:20220908T123000
DTEND;TZID=Europe/Paris:20220908T140000
DTSTAMP:20260425T032825
CREATED:20220819T115851Z
LAST-MODIFIED:20220905T093144Z
UID:4632-1662640200-1662645600@msvalchimica.nl
SUMMARY:Eerstejaarslunch
DESCRIPTION:Welkom nieuwe eerstejaars! Zoals elk jaar organiseren wij als Alchimica een gratis lunch om jullie te verwelkomen en jullie elkaar en ons beter te leren kennen. Kom dus donderdag 8 september tussen 12:30 en 14 uur naar lokaal B0625 in forum. \nGeef je op door hierboven op ‘register’ te drukken. Ook niet BML studenten die nog geen lid van Alchimica zijn mogen komen\, je kunt je dan ook hierboven registreren\, zonder account.\n \nQuestion 1: heb je allergieën? \nQuestion 2: andere opmerkingen.
URL:https://msvalchimica.nl/event/eerstejaarslunch/
ATTACH;FMTTYPE=image/png:https://msvalchimica.nl/wp-content/uploads/2022/08/Eerstejaars-lunch.png
END:VEVENT
BEGIN:VEVENT
DTSTART;TZID=Europe/Paris:20220622T123000
DTEND;TZID=Europe/Paris:20220622T134500
DTSTAMP:20260425T032825
CREATED:20220913T103642Z
LAST-MODIFIED:20220913T103649Z
UID:5458-1655901000-1655905500@msvalchimica.nl
SUMMARY:Tropische Taartlunch 22 september
DESCRIPTION:Voor de taartcie is de zomer nog lang niet voorbij! Wij gaan nog even door in de tropische sfeer met de lekkerste taarten. Neem je zonnebril mee op 22 september om 12:30 in lokaal 4050 in Orion. Tot dan!
URL:https://msvalchimica.nl/event/tropische-taartlunch-22-september/
ATTACH;FMTTYPE=image/png:https://msvalchimica.nl/wp-content/uploads/2022/09/Taartlunch-22-sep-2022.png
END:VEVENT
END:VCALENDAR