BEGIN:VCALENDAR
VERSION:2.0
PRODID:-//M.S.V. Alchimica - ECPv6.15.1.1//NONSGML v1.0//EN
CALSCALE:GREGORIAN
METHOD:PUBLISH
X-WR-CALNAME:M.S.V. Alchimica
X-ORIGINAL-URL:https://msvalchimica.nl
X-WR-CALDESC:Events for M.S.V. Alchimica
REFRESH-INTERVAL;VALUE=DURATION:PT1H
X-Robots-Tag:noindex
X-PUBLISHED-TTL:PT1H
BEGIN:VTIMEZONE
TZID:Europe/Paris
BEGIN:DAYLIGHT
TZOFFSETFROM:+0100
TZOFFSETTO:+0200
TZNAME:CEST
DTSTART:20220327T010000
END:DAYLIGHT
BEGIN:STANDARD
TZOFFSETFROM:+0200
TZOFFSETTO:+0100
TZNAME:CET
DTSTART:20221030T010000
END:STANDARD
BEGIN:DAYLIGHT
TZOFFSETFROM:+0100
TZOFFSETTO:+0200
TZNAME:CEST
DTSTART:20230326T010000
END:DAYLIGHT
BEGIN:STANDARD
TZOFFSETFROM:+0200
TZOFFSETTO:+0100
TZNAME:CET
DTSTART:20231029T010000
END:STANDARD
END:VTIMEZONE
BEGIN:VEVENT
DTSTART;TZID=Europe/Paris:20230228T190000
DTEND;TZID=Europe/Paris:20230228T220000
DTSTAMP:20260425T002038
CREATED:20230223T132837Z
LAST-MODIFIED:20230223T133710Z
UID:7283-1677610800-1677621600@msvalchimica.nl
SUMMARY:ALV 28 februari
DESCRIPTION:Dinsdag 28 februari zal het 53e bestuur van Alchimica ‘In Dubio’ haar eerste algemene ledenvergadering houden. De inloop start om 19.30 en de vergadering zal starten om 20.00 in B0103 (Forum). Voor de ALV is het mogelijk om pizza mee te eten om 19.00. We halen pizza’s bij Domino’s en je hebt keuze uit drie pizza’s; Margaritha\, Perfect Pepperoni of Funghi. De maat van alle pizza’s is medium\, hier wel een eigen bijdrage van €4. Bij vraag 1 kan je aangeven welke je wilt hebben.
URL:https://msvalchimica.nl/event/alv-28-februari/
ATTACH;FMTTYPE=image/png:https://msvalchimica.nl/wp-content/uploads/2023/02/ALV-M.S.V-Alchimica.png
END:VEVENT
BEGIN:VEVENT
DTSTART;TZID=Europe/Paris:20230223T160000
DTEND;TZID=Europe/Paris:20230223T190000
DTSTAMP:20260425T002038
CREATED:20230208T161235Z
LAST-MODIFIED:20230208T161241Z
UID:7195-1677168000-1677178800@msvalchimica.nl
SUMMARY:Meeloopdag DoMiBo
DESCRIPTION:Vandaag is er weer een meeloopdag. Vanaf 16.00 uur is er dan ook een DoMiBo waar je iedereen kunt overtuigen om ook moleculair te gaan studeren! Ook wordt het natuurlijk gewoon een gezellige DoMiBo. We beginnen in Ad Hok\, maar als dat niet past gaan we naar een ander lokaal\, dit wordt tzt via WhatsApp gecommuniceerd.
URL:https://msvalchimica.nl/event/meeloopdag-domibo/
ATTACH;FMTTYPE=image/jpeg:https://msvalchimica.nl/wp-content/uploads/2023/02/Meeloopdag-Borrel.jpg
END:VEVENT
BEGIN:VEVENT
DTSTART;TZID=Europe/Paris:20230222T193000
DTEND;TZID=Europe/Paris:20230222T223000
DTSTAMP:20260425T002038
CREATED:20230208T161209Z
LAST-MODIFIED:20230208T161603Z
UID:7192-1677094200-1677105000@msvalchimica.nl
SUMMARY:Supergave filmavond!
DESCRIPTION:Woensdag 22 februari organiseert de nieuwe EJC hun eerste activiteit: een filmavond met een twist! De film zal later bekend gemaakt worden\, maar het belooft een leuke avond te worden met ontzettend veel popcorn!
URL:https://msvalchimica.nl/event/supergave-filmavond/
ATTACH;FMTTYPE=image/jpeg:https://msvalchimica.nl/wp-content/uploads/2023/02/IMG-20230208-WA0002.jpg
END:VEVENT
BEGIN:VEVENT
DTSTART;TZID=Europe/Paris:20230222T170000
DTEND;TZID=Europe/Paris:20230222T200000
DTSTAMP:20260425T002038
CREATED:20230214T200847Z
LAST-MODIFIED:20230214T200858Z
UID:7238-1677085200-1677096000@msvalchimica.nl
SUMMARY:BSc Thesismarkt
DESCRIPTION:Zoals jullie waarschijnlijk al wel weten is de thesis in het derde jaar een vast onderdeel van onze studie. Hoe dit in z’n werk gaat\, hoe je je aanmeldt en bij welke vakgroep je je thesis eigenlijk wil doen kun je allemaal ontdekken op de thesismarkt\, op de 22’ste van februari!\nEr zal een intropresentatie worden gegeven door Sonja in lokaal C1040 vanaf 16:30.
URL:https://msvalchimica.nl/event/bsc-thesismarkt/
ATTACH;FMTTYPE=image/jpeg:https://msvalchimica.nl/wp-content/uploads/2023/02/WhatsApp-Image-2023-02-14-at-14.14.43.jpeg
END:VEVENT
BEGIN:VEVENT
DTSTART;TZID=Europe/Paris:20230221T080000
DTEND;TZID=Europe/Paris:20230221T140000
DTSTAMP:20260425T002038
CREATED:20230216T130444Z
LAST-MODIFIED:20230216T130651Z
UID:7241-1676966400-1676988000@msvalchimica.nl
SUMMARY:Registration for ONCS
DESCRIPTION:17 t/m 19 mei vindt de ONCS plaats in Wageningen. Dit is een toernooi met chemiestudenten uit heel Nederland. Het is een gevarieerd toernooi met veel verschillende sporten. Daarnaast zijn er ‘s avonds feesten. Meedoen aan dit evenement kost €44\,-. Hier is wel eten en drinken inbegrepen\, en zelfs overnachtingen in De Bongerd. Als je op de 17e nog niet naar het feest komt en de volgende ochtend aansluit zijn de kosten €36\,50. Inschrijven kan via dit excel-document;\nRegistration formONCS 2023 Alchimica.xlsx \nLijkt dit je nou een heel leuk evenement\, maar zijn de kosten te hoog? Of heb je totaal geen zin om iets te doen wat op sporten lijkt?\nDan kan je ook nog parttime of fulltime vrijwilliger worden. Als parttime vrijwilliger betaal je €18\,25 voor kost en inwoning. Als fulltime vrijwilliger heb je er een gratis levenservaring bij. Meer informatie is te vinden via;\nVolunteer leaflet ONCS 2023.pdf\nInschrijven als vrijwilliger kan via;\nONCS 2023 registration form volunteers Alchimica.xlsx \nThe ONCS will take place in Wageningen from 17 to 19 May. This is a tournament with chemistry students from all over the Netherlands. It is a varied tournament with many different sports. In addition\, there is a party in the evenings. Participating in this event costs €44. Food and drinks are included\, and even overnight stays in De Bongerd. If you don’t come to the party on the 17th and join the next morning\, the costs are €36.50. You can register via this excel document;\nRegistration formONCS 2023 Alchimica.xlsx \nDoes this seem like a great event to you\, but are the costs too high? Or do you not feel like doing anything that resembles sports at all?\nYou can also become a part-time or full-time volunteer. As a part-time volunteer you pay €18.25 for room and board. As a full-time volunteer you have a free life experience. More information can be found at; \nVolunteer leaflet ONCS 2023.pdf\nYou can register as a volunteer via;\nONCS 2023 registration form volunteers Alchimica.xlsx
URL:https://msvalchimica.nl/event/registration-for-oncs/
ATTACH;FMTTYPE=image/png:https://msvalchimica.nl/wp-content/uploads/2023/02/Ontwerp-zonder-titel-1.png
END:VEVENT
BEGIN:VEVENT
DTSTART;TZID=Europe/Paris:20230126T183000
DTEND;TZID=Europe/Paris:20230126T223000
DTSTAMP:20260425T002038
CREATED:20221223T214154Z
LAST-MODIFIED:20230116T211347Z
UID:7015-1674757800-1674772200@msvalchimica.nl
SUMMARY:Lasergamen in Forum
DESCRIPTION:Would you like to play lasertag in a university building? Now is the time!\nAlchimica challenged Sylvatica for a lasergame battle! We have won all previous battles but need you to help us win again.\nAre you going to help us to Victory this year? Our battle will be legendary! \nWe rented Vests and better laserpistols which means the battle should be even more intense than last time.\nYou can come and go whenever you like and the starting room is B0221. \nPlease register using the button above! \nIf you want to eat with us(starting 18:30\, B0221)\, please sign up using the following link:\nhttps://forms.gle/U8nRYabH9vjkuMNh8\n(this link is only for dinner\, you also have to register using the ‘register’ button.)
URL:https://msvalchimica.nl/event/lasergamen-in-forum/
ATTACH;FMTTYPE=image/png:https://msvalchimica.nl/wp-content/uploads/2022/12/Lasergamen-2023.png
END:VEVENT
BEGIN:VEVENT
DTSTART;TZID=Europe/Paris:20230125T183000
DTEND;TZID=Europe/Paris:20230125T230000
DTSTAMP:20260425T002038
CREATED:20230108T125901Z
LAST-MODIFIED:20230108T134052Z
UID:7096-1674671400-1674687600@msvalchimica.nl
SUMMARY:Mentoren Diner
DESCRIPTION:Alleen voor 1e jaars bachelor studenten!! \nWe vonden het allemaal erg leuk om mentor te zijn van jullie jaarlaag het afgelopen jaar\, daarom hebben we als afsluiter van het mentorprogramma 25 januari een diner gepland! \nJullie krijgen een buffet met: vers gemarineerde kipsaté met nasi\, kroepoek\, uitjes en zuren. Oosterse groenten gewokt met sojasaus (vega). Grootmoeders runderstoof met peperkoek. Gevulde reuzenchampignons met roquefort\, groenten en noten (vega) en salade \nPs. De prijs kan veranderen\, maar we verwachten op 7.50 uit te komen. \nAls je mee wilt doen\, schrijf je dan in en betaal dit tikkie: \nhttps://tikkie.me/pay/imahkt4e9mfin17ts7kg \nSchrijf je in door op ‘register’ te drukken\, onderstaande vragen beantwoorden en dan ‘submitten’. \nQuestion 1: \nTelefoonnummer \nQuestion 2: \nHeb je nog allergieën? \n  \n 
URL:https://msvalchimica.nl/event/mentoren-diner/
ATTACH;FMTTYPE=image/png:https://msvalchimica.nl/wp-content/uploads/2023/01/Mentoren-Diner1.png
END:VEVENT
BEGIN:VEVENT
DTSTART;TZID=Europe/Paris:20230125T123000
DTEND;TZID=Europe/Paris:20230125T133000
DTSTAMP:20260425T002038
CREATED:20230115T095508Z
LAST-MODIFIED:20230115T095515Z
UID:7125-1674649800-1674653400@msvalchimica.nl
SUMMARY:Lunch Lecture Science Journalism
DESCRIPTION:The world of scientific research is booming! During this lunch lecture\, Jessica Vermeer\, (Web) Editor for the Royal Netherlands Chemical Society (KNCV)\, will address the key features of Science Journalism and how to effectively share new scientific findings! Hope to see you on Wednesday\, the 25th of January\, at 12.30 in Forum (Room will be announced)!
URL:https://msvalchimica.nl/event/lunch-lecture-science-journalism/
ATTACH;FMTTYPE=image/jpeg:https://msvalchimica.nl/wp-content/uploads/2023/01/Lunchlezing.jpg
END:VEVENT
BEGIN:VEVENT
DTSTART;TZID=Europe/Paris:20230124T200000
DTEND;TZID=Europe/Paris:20230124T223000
DTSTAMP:20260425T002038
CREATED:20230114T170035Z
LAST-MODIFIED:20230114T170046Z
UID:7122-1674590400-1674599400@msvalchimica.nl
SUMMARY:Dranktaartavond
DESCRIPTION:Beste allemaal\,\nOm het nieuwe jaar te vieren zijn er weinig dingen beter dan een gezellige avond met een hapje en een drankje. De TaartCie begrijpt dit goed en heeft een manier gevonden om die dingen te combineren. Kom 24 januari daarom naar de dranktaartenavond in C’mon in Asserpark om 20.00 om te genieten van heerlijke baksels met een twist. Om de avond nog beter te maken zal er ook een pubquiz zijn\, met uiteraard een bijzondere prijs voor de winnaar. Tot dan!\nLiefs\, de TaartCie
URL:https://msvalchimica.nl/event/dranktaartavond/
ATTACH;FMTTYPE=image/png:https://msvalchimica.nl/wp-content/uploads/2023/01/Dranktaartavond-1.png
END:VEVENT
BEGIN:VEVENT
DTSTART;TZID=Europe/Paris:20230119T200000
DTEND;TZID=Europe/Paris:20230119T230000
DTSTAMP:20260425T002038
CREATED:20221224T050824Z
LAST-MODIFIED:20221225T083536Z
UID:7019-1674158400-1674169200@msvalchimica.nl
SUMMARY:Sinterkerstpaasennieuw
DESCRIPTION:19 januari zal de Sinterkerstpaasennieuw activiteit plaatsvinden in de common room van Churchill weg. Tijdens deze avond vol gezelligheid komen alle feestdagen langs.\nNeem voor €5\,- cadeautjes mee voor het dobbelspel.\nDe avond zal 20:00 starten\, maar je ben altijd welkom om later te komen.\nGroetjes\,\nDe Maxi
URL:https://msvalchimica.nl/event/sinterkerstpaasennieuw/
ATTACH;FMTTYPE=image/jpeg:https://msvalchimica.nl/wp-content/uploads/2022/12/1.jpg
END:VEVENT
BEGIN:VEVENT
DTSTART;TZID=Europe/Paris:20230118T193000
DTEND;TZID=Europe/Paris:20230118T223000
DTSTAMP:20260425T002038
CREATED:20221223T202244Z
LAST-MODIFIED:20221223T202251Z
UID:7008-1674070200-1674081000@msvalchimica.nl
SUMMARY:Origami planten vouwen
DESCRIPTION:Vinden jouw planten het ook zo moeilijk om deze koude\, donkere winter te overleven? De ArabidopCie heeft dé oplossing! Kom op 18 januari om 19.30 uur naar B0107 in Forum om je eigen papieren planten te vouwen! Ideaal voor tijdens de wintermaanden (of voor wie geen groene vingers heeft).
URL:https://msvalchimica.nl/event/origami-planten-vouwen/
ATTACH;FMTTYPE=image/png:https://msvalchimica.nl/wp-content/uploads/2022/12/Promo-origami-activiteit.png
END:VEVENT
BEGIN:VEVENT
DTSTART;TZID=Europe/Paris:20230117T190000
DTEND;TZID=Europe/Paris:20230118T030000
DTSTAMP:20260425T002038
CREATED:20221224T095614Z
LAST-MODIFIED:20221224T095621Z
UID:7025-1673982000-1674010800@msvalchimica.nl
SUMMARY:Bestuurswissel M.S.V. Alchimica 2023!
DESCRIPTION:Lieve Leden\,  \nOp dinsdag 17 januari 2023 zal het 52e bestuur der M.S.V. Alchimica het stokje overdragen aan het nieuwe 53e bestuur! Om 19.00uur beginnen we met de ALV in Forum\, waar de officiële wissel met bijbehorende tradities zal plaatsvinden. Daarna zullen we de wissel vieren tijdens onze CoBo in de Bunker.\nWe hopen jullie allemaal te zien\, dan maken we er een mooi feest van! \nEnthousiaste groet\,\nHet 52e en aankomend 53e bestuur der M.S.V. Alchimica
URL:https://msvalchimica.nl/event/bestuurswissel-m-s-v-alchimica-2023/
ATTACH;FMTTYPE=image/jpeg:https://msvalchimica.nl/wp-content/uploads/2022/12/Bestuurswissel-1.jpeg
END:VEVENT
BEGIN:VEVENT
DTSTART;TZID=Europe/Paris:20230113T131000
DTEND;TZID=Europe/Paris:20230113T140000
DTSTAMP:20260425T002038
CREATED:20230110T154733Z
LAST-MODIFIED:20230110T154742Z
UID:7116-1673615400-1673618400@msvalchimica.nl
SUMMARY:E-Cie interesselunch
DESCRIPTION:Altijd al eens een kijkje willen nemen in de diepe mechanisaties van de site\, of vindt je het leuk om de activiteiten op de social media’s te promoten? Kom dan aanstaande vrijdag vanaf 13:10 langs bij de E-cie interesselunch in lokaal B0430!
URL:https://msvalchimica.nl/event/e-cie-interesselunch-2/
ATTACH;FMTTYPE=image/png:https://msvalchimica.nl/wp-content/uploads/2023/01/E-cie-interesselunch.png
END:VEVENT
BEGIN:VEVENT
DTSTART;TZID=Europe/Paris:20230112T160000
DTEND;TZID=Europe/Paris:20230112T190000
DTSTAMP:20260425T002038
CREATED:20221223T212006Z
LAST-MODIFIED:20221223T212010Z
UID:7012-1673539200-1673550000@msvalchimica.nl
SUMMARY:New Years eve DoMiBo
DESCRIPTION:The first DoMiBo (donderdagmiddagborrel\, thursdayafternoondrink) of the new year!\nWe are going to buy fries around 18:00(at your own costs)\, so if you have signed up for the WeekendCie JumpXL\, it is very handy to go to the DoMiBo.\nHope to see you there!
URL:https://msvalchimica.nl/event/new-years-eve-domibo/
ATTACH;FMTTYPE=image/jpeg:https://msvalchimica.nl/wp-content/uploads/2022/12/DoMiBo3.jpg
END:VEVENT
BEGIN:VEVENT
DTSTART;TZID=Europe/Paris:20230111T220000
DTEND;TZID=Europe/Paris:20230111T235900
DTSTAMP:20260425T002038
CREATED:20221220T102410Z
LAST-MODIFIED:20221225T083938Z
UID:7005-1673474400-1673481540@msvalchimica.nl
SUMMARY:Sjaarsfeest
DESCRIPTION:Mis jij die goede tijden van vroeger ook zo? Wil je even terug naar toen het leven nog simpel was? Geen tentamens en een beetje in de zandbak spelen? \nLaat je innerlijk kind weer volop uit op 11 januari in de bunker!\nDe deuren zijn open van 22:00-00.00 \nKom verkleed als je jeugdheld en vier samen feest met de sjaars van andere studieverenigingen!!  \nTicket kost €1\,- \nWij zien jullie graag allemaal op dit onvergetelijke kinderfeestje \nTot dan!
URL:https://msvalchimica.nl/event/sjaarsfeest/
ATTACH;FMTTYPE=image/jpeg:https://msvalchimica.nl/wp-content/uploads/2022/12/promo-sjaarsfeest.jpg
END:VEVENT
BEGIN:VEVENT
DTSTART;TZID=Europe/Paris:20230110T173000
DTEND;TZID=Europe/Paris:20230110T210000
DTSTAMP:20260425T002038
CREATED:20221224T094137Z
LAST-MODIFIED:20221224T094148Z
UID:7022-1673371800-1673384400@msvalchimica.nl
SUMMARY:New Year's Dive!
DESCRIPTION:Hello everyone\,\nEnjoy the Christmas holidays! Of course we have to celebrate the start of the new year with a New Year’s dive!\nSo do you sometimes feel a bit tired after your lecture? Or would you love to dive into the new year together? Come and take a swim and enjoy free hot chocolate and ‘Snert’ (also known as split pea soup)!\nMost lectures are finished around 5.10 pm\, so come to the Rhine afterwards. The exact location will follow. See you there!
URL:https://msvalchimica.nl/event/new-years-dive/
ATTACH;FMTTYPE=image/png:https://msvalchimica.nl/wp-content/uploads/2022/12/1.png
END:VEVENT
BEGIN:VEVENT
DTSTART;VALUE=DATE:20221212
DTEND;VALUE=DATE:20221223
DTSTAMP:20260425T002038
CREATED:20221209T100911Z
LAST-MODIFIED:20221212T110656Z
UID:6996-1670803200-1671753599@msvalchimica.nl
SUMMARY:rooms for selfstudy and groupwork
DESCRIPTION:Also this period Alchimica reserved 2 rooms every day in the selfstudyweek and the examweek to practice for your exams or do groupwork.\nThe rooms are open from 8-19:00\, one silent room for selfstudy (SS) and 1 room for groupwork(GW).\n12-12 : B0432(SS) en B0435 (GW)\n13-12: B0432 (SS) en B0425 (GW)\n14-12: B0432 (SS) en B0326 (GW)\n15-12: B0432 (SS) en B0313 (GW)\n16-12: B0432 (SS) en B0435 (GW)\n19-12: B0313 (SS) en B0326 (GW)\n20-12: B0313 (SS) en B0103 (GW)\n21-12: B0326 (SS) en B0106 (GW)\n22-12: B0326 (SS) en B0313 (GW)
URL:https://msvalchimica.nl/event/rooms-for-selfstudy-and-groupwork/
ATTACH;FMTTYPE=image/png:https://msvalchimica.nl/wp-content/uploads/2022/12/Learning.png
END:VEVENT
BEGIN:VEVENT
DTSTART;TZID=Europe/Paris:20221208T190000
DTEND;TZID=Europe/Paris:20221208T230000
DTSTAMP:20260425T002038
CREATED:20221118T172943Z
LAST-MODIFIED:20221118T174726Z
UID:6965-1670526000-1670540400@msvalchimica.nl
SUMMARY:Kerstdiner!
DESCRIPTION:If you sign up\, please fill in the questions below! \nHi everyone! \nChristmas\, and the end of 2022 are fast approaching\, as well as the end of our board year! During our board year we have organised multiple big events and we would love to end with one last festive celebration together! Therefore\, we would like to invite you all to a Christmas dinner on the 8th of December! We have place for a maximum of 70 people and it will be free! You are welcome from 19.00\, but don’t worry if you are late as the first course will be served at 19.30. Everyone gets 2 free coins for drinks (thereafter 1.50 euros per coin)\, and students who would like to help receive one extra! Please register for this activity via the website and let us know with which course you would like to help\, if you have any allergies\, etc. \nFeel free to wear your favourite Christmas/glitter sweater! \nYou will receive an email with more information a few days before the dinner. \nHope to see you there! \n52nd board of M.S.V. Alchimica\n“Luminol” \n  \nQuestion 1: Do you have any allergies? \nQuestion 2: What would you like to drink? Beer/wine/soft drinks(e.g. fanta\, appel juice) \nQuestion 3: would you like to help with decorating\, cooking\, serving\, doing the dishes? If yes\, please fill in your phone number. (+ you earn an extra free coin!) \n 
URL:https://msvalchimica.nl/event/kerstdiner/
ATTACH;FMTTYPE=image/png:https://msvalchimica.nl/wp-content/uploads/2022/11/Christmas-Dinner.png
END:VEVENT
BEGIN:VEVENT
DTSTART;TZID=Europe/Paris:20221206T200000
DTEND;TZID=Europe/Paris:20221206T230000
DTSTAMP:20260425T002038
CREATED:20221110T200342Z
LAST-MODIFIED:20221110T200642Z
UID:6926-1670356800-1670367600@msvalchimica.nl
SUMMARY:Biercantus
DESCRIPTION:Waarde leden\,\n6 december zal de alchimica biercantus plaatsvinden! De avond zal in Annie’s gehouden worden. Inloop is vanaf 19:45 en wij zullen om 20:09 beginnen.\nEr bestaat wellicht een “klein” kansje dat u deze plek niet geheel met droge/schone kleding zult verlaten\, hou daar rekening mee!\nSmeer die stembandjes vast en kom met een goed humeur\, dan maker wij er een fantastische avond van. Thema volgt later! \nGraag inschrijven via ‘register’ knop als je mee wilt doen! \nHoogachtend\,\nUw biercantuscie
URL:https://msvalchimica.nl/event/biercantus/
ATTACH;FMTTYPE=image/jpeg:https://msvalchimica.nl/wp-content/uploads/2022/11/WhatsApp-Image-2022-11-10-at-20.59.17.jpg
END:VEVENT
BEGIN:VEVENT
DTSTART;TZID=Europe/Paris:20221201T160000
DTEND;TZID=Europe/Paris:20221201T190000
DTSTAMP:20260425T002038
CREATED:20221118T164225Z
LAST-MODIFIED:20221118T164225Z
UID:6950-1669910400-1669921200@msvalchimica.nl
SUMMARY:DoMiBo
DESCRIPTION:After a whole day of lectures /tutorials and practicals\, it is time for some enjoyment! \nCome to the ‘donderdagmiddagborrel’ (Thursdayafternoondrink) in Ad Hok (Forum 0501)\, directly after your practical/tutorial/lecture\, for some e.g. beer\, apple juice and snacks! \nThe Domibo starts at 16:00 and ends around 19:00. \n  \nThis is a special DoMiBo\, the ‘meelopers’ (students for a day) are also invited to the DoMiBo!
URL:https://msvalchimica.nl/event/domibo/
ATTACH;FMTTYPE=image/png:https://msvalchimica.nl/wp-content/uploads/2022/11/Meeloopdag-Borrel.png
END:VEVENT
BEGIN:VEVENT
DTSTART;TZID=Europe/Paris:20221201T123000
DTEND;TZID=Europe/Paris:20221201T140000
DTSTAMP:20260425T002038
CREATED:20221125T160924Z
LAST-MODIFIED:20221125T160943Z
UID:6976-1669897800-1669903200@msvalchimica.nl
SUMMARY:Suprise Taartlunch 1 december
DESCRIPTION:Lieve momo’s\,\nVoor de taartlunch van volgende week is dit de promo.\nJullie zijn welkom op december 1\,\nHier krijgen jullie geen cadeautjes door de schoorsteen\,\nMaar wel is er heel veel taart\,\nTijdens de lunch\, wat het verklaard.\nLiefs\, de taart pieten
URL:https://msvalchimica.nl/event/suprise-taartlunch-1-december/
ATTACH;FMTTYPE=image/png:https://msvalchimica.nl/wp-content/uploads/2022/11/taartlunch-1-december-2022-1.png
END:VEVENT
BEGIN:VEVENT
DTSTART;TZID=Europe/Paris:20221130T200000
DTEND;TZID=Europe/Paris:20221130T220000
DTSTAMP:20260425T002038
CREATED:20221113T142533Z
LAST-MODIFIED:20221124T172735Z
UID:6935-1669838400-1669845600@msvalchimica.nl
SUMMARY:Bier bowlen bitterballen met Amino (utrecht)
DESCRIPTION:Hey lieve leden\, \n  \nHeb jij nou altijd al andere MoMo’s willen ontmoeten uit een andere stad? Dit is je kans! Op 30 november organiseren we samen met Amino\, de studieverenigng van MLW in Utrecht\, een bier bowlen bitterballen bij Groeneveld Bowling in Ede. \n  \nVoor maar 2 euro kan je 2 uur bowlen en kletsen excl bier en snacks. \n  \nWe hopen jullie allemaal daar te zien! \n  \nGeef je snel op via de website ivm beperkte plekken! \n  \nLiefs\, \nJullie bestuur
URL:https://msvalchimica.nl/event/bier-bowlen-bitterballen-met-amino-utrecht/
ATTACH;FMTTYPE=image/png:https://msvalchimica.nl/wp-content/uploads/2022/11/BBB.png
END:VEVENT
BEGIN:VEVENT
DTSTART;TZID=Europe/Paris:20221124T200000
DTEND;TZID=Europe/Paris:20221124T220000
DTSTAMP:20260425T002038
CREATED:20221118T170334Z
LAST-MODIFIED:20221118T171839Z
UID:6961-1669320000-1669327200@msvalchimica.nl
SUMMARY:OuderdagCie en MAXI
DESCRIPTION:Hoi allemaal\, \nouderdagCie\nHeb je altijd al je ouders willen laten zien hoe het is om Moleculair te zijn? Gelukkig is hier de ouderdag voor die elk jaar voor en door tweede jaars moleculairen wordt georganiseerd! \nMAXI \nZou jij het leuk vinden om de allergaafste activiteiten te organiseren voor iedereen van de vereniging? Van lasergamen in Forum tot het zwembadfeest\, niets is te gek. Op 24 november vanaf 20:00 in Ad Hok ben je welkom op de interesse-borrel om te kijken of het wat voor jou is. \nLijkt het jou leuk om deze dag te organiseren of heb je een fantastisch idee voor de ouderdag? En of lijkt het jou leuk om grote activiteiten te organiseren? Kom dan op 24 november om 20.00 uur naar de interesse-borrel in Ad Hok! \nGroetjes\, de OuderdagCie en MAXI
URL:https://msvalchimica.nl/event/6961/
ATTACH;FMTTYPE=image/png:https://msvalchimica.nl/wp-content/uploads/2022/11/Interesse-borrel.png
END:VEVENT
BEGIN:VEVENT
DTSTART;TZID=Europe/Paris:20221123T200000
DTEND;TZID=Europe/Paris:20221123T220000
DTSTAMP:20260425T002038
CREATED:20221118T163542Z
LAST-MODIFIED:20221118T165256Z
UID:6944-1669233600-1669240800@msvalchimica.nl
SUMMARY:Mastermarkt
DESCRIPTION:Ben je je aan het oriënteren op een master of ben je gewoon benieuwd wat er allemaal mogelijk is na BML? Volgende week woensdag is de Master Markt! 10 oud-BML studenten komen vertellen over hun master of specialisatie en de overstap vanaf BML. De verschillende MML specialisaties van de WUR zijn er\, maar ook een aantal andere studies binnen&buiten Wageningen. De perfecte gelegenheid om al je vragen te stellen! \nmasters:
URL:https://msvalchimica.nl/event/mastermarkt/
ATTACH;FMTTYPE=image/png:https://msvalchimica.nl/wp-content/uploads/2022/11/1.png
END:VEVENT
BEGIN:VEVENT
DTSTART;TZID=Europe/Paris:20221122T190000
DTEND;TZID=Europe/Paris:20221122T230000
DTSTAMP:20260425T002038
CREATED:20221108T204440Z
LAST-MODIFIED:20221108T214501Z
UID:6915-1669143600-1669158000@msvalchimica.nl
SUMMARY:ALV
DESCRIPTION:Dinsdag 22 november zal onze volgende ALV plaatsvinden in Annies Kroeg\, met als thema ‘Pyjama Party’. Jullie zijn van harte uitgenodigd om in je onesie\, pyjama of wollen sokken te komen genieten van serieuze en minder serieuze onderwerpen. Ook zal het potentiele 53e bestuur van M.S.V. Alchimica zich presenteren! Je kunt mee-eten (max bijdrage 3 euro) vanaf 19.30 uur en de ALV begint om 20.00 uur.\nGraag tot dan!✨ \nWil je mee eten(patat en een snack)? Schrijf je hierboven dan in! (als je niet mee eet\, schrijf je dan niet in!). De kosten hiervan zullen max 3 euro zijn\, na de ALV zal je een betaalverzoek krijgen.\n \nQuestion 1: Wat wil je als snack? Frikandel/kroket/kaassoufflé/vegan kroket
URL:https://msvalchimica.nl/event/alv/
ATTACH;FMTTYPE=image/jpeg:https://msvalchimica.nl/wp-content/uploads/2022/11/ALV.jpg
END:VEVENT
BEGIN:VEVENT
DTSTART;TZID=Europe/Paris:20221121T140000
DTEND;TZID=Europe/Paris:20221121T160000
DTSTAMP:20260425T002038
CREATED:20221118T164536Z
LAST-MODIFIED:20221118T165336Z
UID:6954-1669039200-1669046400@msvalchimica.nl
SUMMARY:interesselunch PPM
DESCRIPTION:https://forms.gle/su46Yjn12pZiz41q9 \nHey allemaal\, \nDe PPM zoekt nieuwe leden! Mocht je interesse hebben om de beste nieuwe Alchimica merch te bedenken of zorgen dat er altijd genoeg paarse truien zijn (ze zijn weer besteld ;) ) kom dan vooral langs onze interesse lunch maandag! Het zal in adhok zijn of een lokaal in forum. Mocht je een stuk pizza willen geef dit dan voor maandag door via de link hier boven!😊 \nCreatieve groetjes\,\nDe PPM
URL:https://msvalchimica.nl/event/intesseluch-ppm/
ATTACH;FMTTYPE=image/png:https://msvalchimica.nl/wp-content/uploads/2022/11/PPM-interessselunch.png
END:VEVENT
BEGIN:VEVENT
DTSTART;TZID=Europe/Paris:20221117T190000
DTEND;TZID=Europe/Paris:20221117T230000
DTSTAMP:20260425T002038
CREATED:20221005T211326Z
LAST-MODIFIED:20221006T070158Z
UID:5992-1668711600-1668726000@msvalchimica.nl
SUMMARY:SportCie Just Dance Activiteit
DESCRIPTION:Op 17 november is het weer zo ver! De SportCie organiseert de nieuwe editie van de Just Dance activiteit. Dans tot je er bij neervalt! Locatie volgt nog! \nOm een inschatting te krijgen hoeveel mensen er komen\, zal je je moeten registreren voor deze activiteit.
URL:https://msvalchimica.nl/event/sportcie-just-dance-activiteit/
ATTACH;FMTTYPE=image/jpeg:https://msvalchimica.nl/wp-content/uploads/2022/10/sportcie-promo-just-dance-2022.jpg
END:VEVENT
BEGIN:VEVENT
DTSTART;TZID=Europe/Paris:20221115T200000
DTEND;TZID=Europe/Paris:20221115T230000
DTSTAMP:20260425T002038
CREATED:20221112T143910Z
LAST-MODIFIED:20221112T143910Z
UID:6932-1668542400-1668553200@msvalchimica.nl
SUMMARY:LANbert-beer
DESCRIPTION:Dinsdag 15 November gaan we vanaf 20:00 spelletjes spelen! Zoals bordspellen en bijv. mario karten op de switch die aangesloten is op de digiborden!\nSnacks en drinken zullen aanwezig zijn\, hopelijk zien we jullie daar!\nMAXI
URL:https://msvalchimica.nl/event/lanbert-beer/
ATTACH;FMTTYPE=image/jpeg:https://msvalchimica.nl/wp-content/uploads/2022/11/MAXI.jpg
END:VEVENT
BEGIN:VEVENT
DTSTART;TZID=Europe/Paris:20221110T193000
DTEND;TZID=Europe/Paris:20221110T210000
DTSTAMP:20260425T002038
CREATED:20221029T145855Z
LAST-MODIFIED:20221029T171645Z
UID:6599-1668108600-1668114000@msvalchimica.nl
SUMMARY:DJ Master Class
DESCRIPTION:Hi!\nWould you like to learn the basics of DJ-ing\, how to use DJ equipment and receive some cool tips and tricks?\nJoin the DJ Master Class given by the Musici committee on Thursday the 10th of November from 19.30-21.00 in Ad Hok (Forum 0501)! \nJoining the Master Class will allow you to borrow the M.S.V. Alchimica DJ equipment for organising activities in the future! \nHope to see you there! \nYou have to register for this event\, using the ‘register’ button above (only for logged-in members). \n 
URL:https://msvalchimica.nl/event/dj-master-class/
ATTACH;FMTTYPE=image/png:https://msvalchimica.nl/wp-content/uploads/2022/10/Musici-workshop-1.png
END:VEVENT
BEGIN:VEVENT
DTSTART;TZID=Europe/Paris:20221110T160000
DTEND;TZID=Europe/Paris:20221110T190000
DTSTAMP:20260425T002038
CREATED:20221029T172502Z
LAST-MODIFIED:20221029T173410Z
UID:6604-1668096000-1668106800@msvalchimica.nl
SUMMARY:DoMiBo
DESCRIPTION:After a whole day of lectures /tutorials and practicals\, it is time for some enjoyment! \nCome to the ‘donderdagmiddagborrel’ (Thursdayafternoondrink) in Ad Hok (Forum 0501)\, directly after your practical/tutorial/lecture\, for some e.g. beer\, apple juice and snacks! The Domibo starts at 16:00 and ends around 19:00\, after which you can go to the MusiCie DJ masterclass(if you want;))! \nIf this activity is a success\, it will return ones or twice a period.
URL:https://msvalchimica.nl/event/6604/
ATTACH;FMTTYPE=image/png:https://msvalchimica.nl/wp-content/uploads/2022/10/DoMiBo.png
END:VEVENT
END:VCALENDAR